BEGIN:VCALENDAR
VERSION:2.0
PRODID:-//Royal Oaks - ECPv6.2.4//NONSGML v1.0//EN
CALSCALE:GREGORIAN
METHOD:PUBLISH
X-ORIGINAL-URL:https://www.royaloaks.ca
X-WR-CALDESC:Events for Royal Oaks
REFRESH-INTERVAL;VALUE=DURATION:PT1H
X-Robots-Tag:noindex
X-PUBLISHED-TTL:PT1H
BEGIN:VTIMEZONE
TZID:UTC
BEGIN:STANDARD
TZOFFSETFROM:+0000
TZOFFSETTO:+0000
TZNAME:UTC
DTSTART:20240101T000000
END:STANDARD
END:VTIMEZONE
BEGIN:VEVENT
DTSTART;TZID=UTC:20241123T180000
DTEND;TZID=UTC:20241123T210000
DTSTAMP:20260421T135655
CREATED:20241112T173813Z
LAST-MODIFIED:20241112T174215Z
UID:4278-1732384800-1732395600@www.royaloaks.ca
SUMMARY:Autumn Harvest Dinner
DESCRIPTION:Please see link for payment method. The reservations can be made by calling restaurant at 506-388-6257 ext. 4 \n 
URL:https://www.royaloaks.ca/event/autumn-harvest-dinner/
CATEGORIES:Entertainment,Private Party
ATTACH;FMTTYPE=image/png:https://www.royaloaks.ca/wp-content/uploads/2024/11/icgoakaq.png
END:VEVENT
END:VCALENDAR