BEGIN:VCALENDAR
VERSION:2.0
PRODID:-//Royal Oaks - ECPv6.2.4//NONSGML v1.0//EN
CALSCALE:GREGORIAN
METHOD:PUBLISH
X-ORIGINAL-URL:https://www.royaloaks.ca
X-WR-CALDESC:Events for Royal Oaks
REFRESH-INTERVAL;VALUE=DURATION:PT1H
X-Robots-Tag:noindex
X-PUBLISHED-TTL:PT1H
BEGIN:VTIMEZONE
TZID:UTC
BEGIN:STANDARD
TZOFFSETFROM:+0000
TZOFFSETTO:+0000
TZNAME:UTC
DTSTART:20230101T000000
END:STANDARD
END:VTIMEZONE
BEGIN:VEVENT
DTSTART;TZID=UTC:20260130T160000
DTEND;TZID=UTC:20260130T220000
DTSTAMP:20260424T144326
CREATED:20260106T163754Z
LAST-MODIFIED:20260106T164015Z
UID:4969-1769788800-1769810400@www.royaloaks.ca
SUMMARY:Closed for Private Function 4-close
DESCRIPTION:
URL:https://www.royaloaks.ca/event/closed-for-private-function-4-close/
CATEGORIES:Private Party
END:VEVENT
BEGIN:VEVENT
DTSTART;TZID=UTC:20250208T160000
DTEND;TZID=UTC:20250209T000000
DTSTAMP:20260424T144326
CREATED:20250128T183519Z
LAST-MODIFIED:20250128T183519Z
UID:4381-1739030400-1739059200@www.royaloaks.ca
SUMMARY:Restaurant Closed for Private Event 4pm-12am
DESCRIPTION:
URL:https://www.royaloaks.ca/event/restaurant-closed-for-private-event-4pm-12am/
CATEGORIES:Private Party
ATTACH;FMTTYPE=image/jpeg:https://www.royaloaks.ca/wp-content/uploads/2025/01/wedding-rings-marriage-wedding-open-bible-golden-rings-couple-love-rings-book-bible-vows-love-wallpaper-wedding-rings-marriage-marriage-marriage-wedding-wedding-wedding-wedding-wedding-bible-1284225.jpg
END:VEVENT
BEGIN:VEVENT
DTSTART;TZID=UTC:20241123T180000
DTEND;TZID=UTC:20241123T210000
DTSTAMP:20260424T144326
CREATED:20241112T173813Z
LAST-MODIFIED:20241112T174215Z
UID:4278-1732384800-1732395600@www.royaloaks.ca
SUMMARY:Autumn Harvest Dinner
DESCRIPTION:Please see link for payment method. The reservations can be made by calling restaurant at 506-388-6257 ext. 4 \n 
URL:https://www.royaloaks.ca/event/autumn-harvest-dinner/
CATEGORIES:Entertainment,Private Party
ATTACH;FMTTYPE=image/png:https://www.royaloaks.ca/wp-content/uploads/2024/11/icgoakaq.png
END:VEVENT
BEGIN:VEVENT
DTSTART;TZID=UTC:20231231T200000
DTEND;TZID=UTC:20240101T010000
DTSTAMP:20260424T144326
CREATED:20231012T151004Z
LAST-MODIFIED:20240105T184931Z
UID:3652-1704052800-1704070800@www.royaloaks.ca
SUMMARY:New Years Eve Party -SPECIAL PERFORMANCE: Bobcaygeon - Tragically Hip Tribute
DESCRIPTION:New Years Eve Party  / Sunday\, 31st December  \nSPECIAL PERFORMANCE: Bobcaygeon – Tragically Hip Tribute (9pm-1am) \nOption 1: Regular TICKET $50 (Includes:1 Entree & CHAMPAGNE Toast at midnight) \nOption 2: VIP TICKET $100 (Includes: 1 Entree\, Chef’s choice of plated Dinner for 1\,Wine with dinner\, Dessert & CHAMPAGNE Toast at Midnight) *Reservations for Dinner are from 5:30-7:00 pm *70 Max Sold * \nPlease call for tickets: (506)388-6257ext.4 \n401 Royal Oaks Blvd\, Moncton NB E1H 0A2 \n  \n 
URL:https://www.royaloaks.ca/event/3652/
LOCATION:Banquet Room
CATEGORIES:Entertainment,Private Party
ATTACH;FMTTYPE=image/jpeg:https://www.royaloaks.ca/wp-content/uploads/2023/10/wine-glasses-toast-6688901.jpg
END:VEVENT
BEGIN:VEVENT
DTSTART;TZID=UTC:20231216T160000
DTEND;TZID=UTC:20231216T233000
DTSTAMP:20260424T144326
CREATED:20231127T140105Z
LAST-MODIFIED:20231127T140105Z
UID:3764-1702742400-1702769400@www.royaloaks.ca
SUMMARY:ROCA Private Function 4pm-CLOSE
DESCRIPTION:Business Hours: \nCrosswinds will be open from 12-4pm \nOffice hours 8am-4pm
URL:https://www.royaloaks.ca/event/roca-private-function-4pm-close/
CATEGORIES:Private Party
END:VEVENT
BEGIN:VEVENT
DTSTART;TZID=UTC:20231208T160000
DTEND;TZID=UTC:20231208T233000
DTSTAMP:20260424T144326
CREATED:20231127T140020Z
LAST-MODIFIED:20231127T140020Z
UID:3762-1702051200-1702078200@www.royaloaks.ca
SUMMARY:Private Function 4pm-CLOSE
DESCRIPTION:Business Hours: \nCrosswinds will be open from 12-4pm \nOffice hours 8am-4pm
URL:https://www.royaloaks.ca/event/private-function-4pm-close-2/
CATEGORIES:Private Party
END:VEVENT
BEGIN:VEVENT
DTSTART;TZID=UTC:20231201T160000
DTEND;TZID=UTC:20231201T233000
DTSTAMP:20260424T144326
CREATED:20231127T135949Z
LAST-MODIFIED:20231127T135949Z
UID:3760-1701446400-1701473400@www.royaloaks.ca
SUMMARY:Private Function 4pm-CLOSE
DESCRIPTION:Business Hours: \nCrosswinds will be open from 12-4pm \nOffice hours 8am-4pm
URL:https://www.royaloaks.ca/event/private-function-4pm-close/
CATEGORIES:Private Party
END:VEVENT
BEGIN:VEVENT
DTSTART;TZID=UTC:20231028T193000
DTEND;TZID=UTC:20231028T233000
DTSTAMP:20260424T144326
CREATED:20231012T132936Z
LAST-MODIFIED:20231012T133814Z
UID:3647-1698521400-1698535800@www.royaloaks.ca
SUMMARY:Halloween Costume Party
DESCRIPTION:Tickets are $25/person (Complimentary drink\, Light Appetizers\,\nPrizes for best costumes and much more.) Please call to purchase ticket at (506)388-6257 ext.3
URL:https://www.royaloaks.ca/event/halloween-costume-party/
CATEGORIES:Private Party
ATTACH;FMTTYPE=image/jpeg:https://www.royaloaks.ca/wp-content/uploads/2023/10/pumpkin-halloween-tradition-6720424.jpg
END:VEVENT
END:VCALENDAR