BEGIN:VCALENDAR
VERSION:2.0
PRODID:-//Royal Oaks - ECPv6.2.4//NONSGML v1.0//EN
CALSCALE:GREGORIAN
METHOD:PUBLISH
X-ORIGINAL-URL:https://www.royaloaks.ca
X-WR-CALDESC:Events for Royal Oaks
REFRESH-INTERVAL;VALUE=DURATION:PT1H
X-Robots-Tag:noindex
X-PUBLISHED-TTL:PT1H
BEGIN:VTIMEZONE
TZID:UTC
BEGIN:STANDARD
TZOFFSETFROM:+0000
TZOFFSETTO:+0000
TZNAME:UTC
DTSTART:20260101T000000
END:STANDARD
END:VTIMEZONE
BEGIN:VEVENT
DTSTART;TZID=UTC:20260130T160000
DTEND;TZID=UTC:20260130T220000
DTSTAMP:20260422T104336
CREATED:20260106T163754Z
LAST-MODIFIED:20260106T164015Z
UID:4969-1769788800-1769810400@www.royaloaks.ca
SUMMARY:Closed for Private Function 4-close
DESCRIPTION:
URL:https://www.royaloaks.ca/event/closed-for-private-function-4-close/
CATEGORIES:Private Party
END:VEVENT
END:VCALENDAR