BEGIN:VCALENDAR
VERSION:2.0
PRODID:-//Royal Oaks - ECPv6.2.4//NONSGML v1.0//EN
CALSCALE:GREGORIAN
METHOD:PUBLISH
X-ORIGINAL-URL:https://www.royaloaks.ca
X-WR-CALDESC:Events for Royal Oaks
REFRESH-INTERVAL;VALUE=DURATION:PT1H
X-Robots-Tag:noindex
X-PUBLISHED-TTL:PT1H
BEGIN:VTIMEZONE
TZID:UTC
BEGIN:STANDARD
TZOFFSETFROM:+0000
TZOFFSETTO:+0000
TZNAME:UTC
DTSTART:20230101T000000
END:STANDARD
END:VTIMEZONE
BEGIN:VEVENT
DTSTART;TZID=UTC:20250924T180000
DTEND;TZID=UTC:20250924T200000
DTSTAMP:20260424T074724
CREATED:20250218T204655Z
LAST-MODIFIED:20250218T204655Z
UID:4762-1758736800-1758744000@www.royaloaks.ca
SUMMARY:Men's Night
DESCRIPTION:
URL:https://www.royaloaks.ca/event/mens-night-33/
CATEGORIES:Men's Night
END:VEVENT
BEGIN:VEVENT
DTSTART;TZID=UTC:20250917T180000
DTEND;TZID=UTC:20250917T200000
DTSTAMP:20260424T074724
CREATED:20250218T204634Z
LAST-MODIFIED:20250218T204634Z
UID:4760-1758132000-1758139200@www.royaloaks.ca
SUMMARY:Men's Night
DESCRIPTION:
URL:https://www.royaloaks.ca/event/mens-night-32/
CATEGORIES:Men's Night
END:VEVENT
BEGIN:VEVENT
DTSTART;TZID=UTC:20250910T180000
DTEND;TZID=UTC:20250910T200000
DTSTAMP:20260424T074724
CREATED:20250218T203802Z
LAST-MODIFIED:20250218T203802Z
UID:4726-1757527200-1757534400@www.royaloaks.ca
SUMMARY:Men's Night
DESCRIPTION:
URL:https://www.royaloaks.ca/event/mens-night-31/
CATEGORIES:Men's Night
END:VEVENT
BEGIN:VEVENT
DTSTART;TZID=UTC:20250827T180000
DTEND;TZID=UTC:20250827T200000
DTSTAMP:20260424T074724
CREATED:20250218T203553Z
LAST-MODIFIED:20250218T203724Z
UID:4723-1756317600-1756324800@www.royaloaks.ca
SUMMARY:Men's Night
DESCRIPTION:
URL:https://www.royaloaks.ca/event/mens-night-30/
CATEGORIES:Men's Night
END:VEVENT
BEGIN:VEVENT
DTSTART;TZID=UTC:20250820T180000
DTEND;TZID=UTC:20250820T200000
DTSTAMP:20260424T074724
CREATED:20250218T203530Z
LAST-MODIFIED:20250218T203530Z
UID:4721-1755712800-1755720000@www.royaloaks.ca
SUMMARY:Men's Night
DESCRIPTION:
URL:https://www.royaloaks.ca/event/mens-night-29/
CATEGORIES:Men's Night
END:VEVENT
BEGIN:VEVENT
DTSTART;TZID=UTC:20250813T180000
DTEND;TZID=UTC:20250813T200000
DTSTAMP:20260424T074724
CREATED:20250218T203452Z
LAST-MODIFIED:20250218T203452Z
UID:4719-1755108000-1755115200@www.royaloaks.ca
SUMMARY:Men's Night
DESCRIPTION:
URL:https://www.royaloaks.ca/event/mens-night-28/
CATEGORIES:Men's Night
END:VEVENT
BEGIN:VEVENT
DTSTART;TZID=UTC:20250806T180000
DTEND;TZID=UTC:20250806T200000
DTSTAMP:20260424T074724
CREATED:20250218T203425Z
LAST-MODIFIED:20250218T203425Z
UID:4717-1754503200-1754510400@www.royaloaks.ca
SUMMARY:Men's Night
DESCRIPTION:
URL:https://www.royaloaks.ca/event/mens-night-27/
CATEGORIES:Men's Night
END:VEVENT
BEGIN:VEVENT
DTSTART;TZID=UTC:20250730T180000
DTEND;TZID=UTC:20250730T200000
DTSTAMP:20260424T074724
CREATED:20250218T204849Z
LAST-MODIFIED:20250218T204849Z
UID:4716-1753898400-1753905600@www.royaloaks.ca
SUMMARY:Men's Night
DESCRIPTION:
URL:https://www.royaloaks.ca/event/mens-night-34/
CATEGORIES:Men's Night
END:VEVENT
BEGIN:VEVENT
DTSTART;TZID=UTC:20250723T180000
DTEND;TZID=UTC:20250723T200000
DTSTAMP:20260424T074724
CREATED:20250218T203149Z
LAST-MODIFIED:20250218T203350Z
UID:4714-1753293600-1753300800@www.royaloaks.ca
SUMMARY:Men's Night
DESCRIPTION:
URL:https://www.royaloaks.ca/event/mens-night-26/
CATEGORIES:Men's Night
END:VEVENT
BEGIN:VEVENT
DTSTART;TZID=UTC:20250716T180000
DTEND;TZID=UTC:20250716T200000
DTSTAMP:20260424T074724
CREATED:20250218T203121Z
LAST-MODIFIED:20250218T203121Z
UID:4712-1752688800-1752696000@www.royaloaks.ca
SUMMARY:Men's Night
DESCRIPTION:
URL:https://www.royaloaks.ca/event/mens-night-25/
CATEGORIES:Men's Night
END:VEVENT
BEGIN:VEVENT
DTSTART;TZID=UTC:20250709T180000
DTEND;TZID=UTC:20250709T200000
DTSTAMP:20260424T074724
CREATED:20250218T203056Z
LAST-MODIFIED:20250218T203056Z
UID:4710-1752084000-1752091200@www.royaloaks.ca
SUMMARY:Men's Night
DESCRIPTION:
URL:https://www.royaloaks.ca/event/mens-night-24/
CATEGORIES:Men's Night
END:VEVENT
BEGIN:VEVENT
DTSTART;TZID=UTC:20250702T180000
DTEND;TZID=UTC:20250702T200000
DTSTAMP:20260424T074724
CREATED:20250218T203029Z
LAST-MODIFIED:20250218T203029Z
UID:4708-1751479200-1751486400@www.royaloaks.ca
SUMMARY:Men's Night
DESCRIPTION:
URL:https://www.royaloaks.ca/event/mens-night-23/
CATEGORIES:Men's Night
END:VEVENT
BEGIN:VEVENT
DTSTART;TZID=UTC:20250625T180000
DTEND;TZID=UTC:20250625T200000
DTSTAMP:20260424T074724
CREATED:20250218T203001Z
LAST-MODIFIED:20250218T203001Z
UID:4706-1750874400-1750881600@www.royaloaks.ca
SUMMARY:Men's Night
DESCRIPTION:
URL:https://www.royaloaks.ca/event/mens-night-22/
CATEGORIES:Men's Night
END:VEVENT
BEGIN:VEVENT
DTSTART;TZID=UTC:20250618T180000
DTEND;TZID=UTC:20250618T200000
DTSTAMP:20260424T074724
CREATED:20250218T202930Z
LAST-MODIFIED:20250218T202930Z
UID:4704-1750269600-1750276800@www.royaloaks.ca
SUMMARY:Men's Night
DESCRIPTION:
URL:https://www.royaloaks.ca/event/mens-night-21/
CATEGORIES:Men's Night
END:VEVENT
BEGIN:VEVENT
DTSTART;TZID=UTC:20250611T180000
DTEND;TZID=UTC:20250611T200000
DTSTAMP:20260424T074724
CREATED:20250218T202815Z
LAST-MODIFIED:20250218T202815Z
UID:4702-1749664800-1749672000@www.royaloaks.ca
SUMMARY:Men's Night
DESCRIPTION:
URL:https://www.royaloaks.ca/event/mens-night-20/
CATEGORIES:Men's Night
END:VEVENT
BEGIN:VEVENT
DTSTART;TZID=UTC:20250604T180000
DTEND;TZID=UTC:20250604T200000
DTSTAMP:20260424T074724
CREATED:20250218T202750Z
LAST-MODIFIED:20250218T202750Z
UID:4700-1749060000-1749067200@www.royaloaks.ca
SUMMARY:Men's Night
DESCRIPTION:
URL:https://www.royaloaks.ca/event/mens-night-19/
CATEGORIES:Men's Night
END:VEVENT
BEGIN:VEVENT
DTSTART;TZID=UTC:20250528T180000
DTEND;TZID=UTC:20250528T200000
DTSTAMP:20260424T074724
CREATED:20250218T202707Z
LAST-MODIFIED:20250218T202707Z
UID:4698-1748455200-1748462400@www.royaloaks.ca
SUMMARY:Men's Night
DESCRIPTION:
URL:https://www.royaloaks.ca/event/mens-night-18/
CATEGORIES:Men's Night
END:VEVENT
BEGIN:VEVENT
DTSTART;TZID=UTC:20230927T180000
DTEND;TZID=UTC:20230927T200000
DTSTAMP:20260424T074724
CREATED:20230619T172324Z
LAST-MODIFIED:20230619T172324Z
UID:3389-1695837600-1695844800@www.royaloaks.ca
SUMMARY:Men's Night
DESCRIPTION:
URL:https://www.royaloaks.ca/event/mens-night-16/
CATEGORIES:Men's Night
END:VEVENT
BEGIN:VEVENT
DTSTART;TZID=UTC:20230920T180000
DTEND;TZID=UTC:20230920T200000
DTSTAMP:20260424T074724
CREATED:20230619T171910Z
LAST-MODIFIED:20230619T171910Z
UID:3381-1695232800-1695240000@www.royaloaks.ca
SUMMARY:Men's Night
DESCRIPTION:
URL:https://www.royaloaks.ca/event/mens-night-15/
CATEGORIES:Men's Night
END:VEVENT
BEGIN:VEVENT
DTSTART;TZID=UTC:20230913T180000
DTEND;TZID=UTC:20230913T200000
DTSTAMP:20260424T074724
CREATED:20230619T192015Z
LAST-MODIFIED:20230619T192015Z
UID:3446-1694628000-1694635200@www.royaloaks.ca
SUMMARY:Men's Night
DESCRIPTION:
URL:https://www.royaloaks.ca/event/mens-night-17/
CATEGORIES:Men's Night
END:VEVENT
BEGIN:VEVENT
DTSTART;TZID=UTC:20230906T180000
DTEND;TZID=UTC:20230906T200000
DTSTAMP:20260424T074724
CREATED:20230619T171011Z
LAST-MODIFIED:20230619T192226Z
UID:3373-1694023200-1694030400@www.royaloaks.ca
SUMMARY:Men's Night
DESCRIPTION:
URL:https://www.royaloaks.ca/event/mens-night-14/
CATEGORIES:Men's Night
END:VEVENT
BEGIN:VEVENT
DTSTART;TZID=UTC:20230830T180000
DTEND;TZID=UTC:20230830T200000
DTSTAMP:20260424T074724
CREATED:20230619T170129Z
LAST-MODIFIED:20230619T170129Z
UID:3361-1693418400-1693425600@www.royaloaks.ca
SUMMARY:Men's Night
DESCRIPTION:
URL:https://www.royaloaks.ca/event/mens-night-13/
CATEGORIES:Men's Night
END:VEVENT
BEGIN:VEVENT
DTSTART;TZID=UTC:20230823T180000
DTEND;TZID=UTC:20230823T200000
DTSTAMP:20260424T074724
CREATED:20230619T165705Z
LAST-MODIFIED:20230619T165705Z
UID:3355-1692813600-1692820800@www.royaloaks.ca
SUMMARY:Men's Night
DESCRIPTION:
URL:https://www.royaloaks.ca/event/mens-night-12/
CATEGORIES:Men's Night
END:VEVENT
BEGIN:VEVENT
DTSTART;TZID=UTC:20230816T180000
DTEND;TZID=UTC:20230816T200000
DTSTAMP:20260424T074724
CREATED:20230619T163506Z
LAST-MODIFIED:20230619T163506Z
UID:3345-1692208800-1692216000@www.royaloaks.ca
SUMMARY:Men's Night
DESCRIPTION:
URL:https://www.royaloaks.ca/event/mens-night-11/
CATEGORIES:Men's Night
END:VEVENT
BEGIN:VEVENT
DTSTART;TZID=UTC:20230809T180000
DTEND;TZID=UTC:20230809T200000
DTSTAMP:20260424T074724
CREATED:20230619T162848Z
LAST-MODIFIED:20230619T163050Z
UID:3337-1691604000-1691611200@www.royaloaks.ca
SUMMARY:Men's Night
DESCRIPTION:
URL:https://www.royaloaks.ca/event/mens-night-10/
CATEGORIES:Men's Night
END:VEVENT
BEGIN:VEVENT
DTSTART;TZID=UTC:20230802T180000
DTEND;TZID=UTC:20230802T200000
DTSTAMP:20260424T074724
CREATED:20230619T162243Z
LAST-MODIFIED:20230619T162243Z
UID:3329-1690999200-1691006400@www.royaloaks.ca
SUMMARY:Men's Night
DESCRIPTION:
URL:https://www.royaloaks.ca/event/mens-night-9/
CATEGORIES:Men's Night
END:VEVENT
BEGIN:VEVENT
DTSTART;TZID=UTC:20230726T180000
DTEND;TZID=UTC:20230726T200000
DTSTAMP:20260424T074724
CREATED:20230609T112504Z
LAST-MODIFIED:20230609T112504Z
UID:3236-1690394400-1690401600@www.royaloaks.ca
SUMMARY:Men's Night
DESCRIPTION:
URL:https://www.royaloaks.ca/event/mens-night-7/
CATEGORIES:Men's Night
END:VEVENT
BEGIN:VEVENT
DTSTART;TZID=UTC:20230719T180000
DTEND;TZID=UTC:20230719T200000
DTSTAMP:20260424T074724
CREATED:20230609T112427Z
LAST-MODIFIED:20230609T112427Z
UID:3234-1689789600-1689796800@www.royaloaks.ca
SUMMARY:Men's Night
DESCRIPTION:
URL:https://www.royaloaks.ca/event/mens-night-6/
CATEGORIES:Men's Night
END:VEVENT
BEGIN:VEVENT
DTSTART;TZID=UTC:20230712T180000
DTEND;TZID=UTC:20230712T200000
DTSTAMP:20260424T074724
CREATED:20230606T190900Z
LAST-MODIFIED:20230609T112117Z
UID:3205-1689184800-1689192000@www.royaloaks.ca
SUMMARY:Men's Night
DESCRIPTION:
URL:https://www.royaloaks.ca/event/mens-night-4/
CATEGORIES:Men's Night
END:VEVENT
BEGIN:VEVENT
DTSTART;TZID=UTC:20230705T180000
DTEND;TZID=UTC:20230705T200000
DTSTAMP:20260424T074724
CREATED:20230609T112301Z
LAST-MODIFIED:20230609T112301Z
UID:3232-1688580000-1688587200@www.royaloaks.ca
SUMMARY:Men's Night
DESCRIPTION:
URL:https://www.royaloaks.ca/event/mens-night-5/
CATEGORIES:Men's Night
END:VEVENT
END:VCALENDAR