BEGIN:VCALENDAR
VERSION:2.0
PRODID:-//Royal Oaks - ECPv6.2.4//NONSGML v1.0//EN
CALSCALE:GREGORIAN
METHOD:PUBLISH
X-ORIGINAL-URL:https://www.royaloaks.ca
X-WR-CALDESC:Events for Royal Oaks
REFRESH-INTERVAL;VALUE=DURATION:PT1H
X-Robots-Tag:noindex
X-PUBLISHED-TTL:PT1H
BEGIN:VTIMEZONE
TZID:UTC
BEGIN:STANDARD
TZOFFSETFROM:+0000
TZOFFSETTO:+0000
TZNAME:UTC
DTSTART:20230101T000000
END:STANDARD
END:VTIMEZONE
BEGIN:VEVENT
DTSTART;TZID=UTC:20250624T150000
DTEND;TZID=UTC:20250624T190000
DTSTAMP:20260424T092618
CREATED:20250218T204024Z
LAST-MODIFIED:20250218T204024Z
UID:4734-1750777200-1750791600@www.royaloaks.ca
SUMMARY:Ladies Night
DESCRIPTION:
URL:https://www.royaloaks.ca/event/ladies-night-19/
CATEGORIES:Ladies Night
END:VEVENT
BEGIN:VEVENT
DTSTART;TZID=UTC:20250617T150000
DTEND;TZID=UTC:20250617T190000
DTSTAMP:20260424T092618
CREATED:20250218T203957Z
LAST-MODIFIED:20250218T203957Z
UID:4732-1750172400-1750186800@www.royaloaks.ca
SUMMARY:Ladies Night
DESCRIPTION:
URL:https://www.royaloaks.ca/event/ladies-night-18/
CATEGORIES:Ladies Night
END:VEVENT
BEGIN:VEVENT
DTSTART;TZID=UTC:20250610T150000
DTEND;TZID=UTC:20250610T190000
DTSTAMP:20260424T092618
CREATED:20250218T203934Z
LAST-MODIFIED:20250218T203934Z
UID:4730-1749567600-1749582000@www.royaloaks.ca
SUMMARY:Ladies Night
DESCRIPTION:
URL:https://www.royaloaks.ca/event/ladies-night-17/
CATEGORIES:Ladies Night
END:VEVENT
BEGIN:VEVENT
DTSTART;TZID=UTC:20250603T150000
DTEND;TZID=UTC:20250603T190000
DTSTAMP:20260424T092618
CREATED:20250218T203908Z
LAST-MODIFIED:20250218T203908Z
UID:4728-1748962800-1748977200@www.royaloaks.ca
SUMMARY:Ladies Night
DESCRIPTION:
URL:https://www.royaloaks.ca/event/ladies-night-16/
CATEGORIES:Ladies Night
END:VEVENT
BEGIN:VEVENT
DTSTART;TZID=UTC:20230926T150000
DTEND;TZID=UTC:20230926T190000
DTSTAMP:20260424T092618
CREATED:20230619T172156Z
LAST-MODIFIED:20230619T172156Z
UID:3385-1695740400-1695754800@www.royaloaks.ca
SUMMARY:Ladies Night
DESCRIPTION:
URL:https://www.royaloaks.ca/event/ladies-night-14/
CATEGORIES:Ladies Night
END:VEVENT
BEGIN:VEVENT
DTSTART;TZID=UTC:20230919T150000
DTEND;TZID=UTC:20230919T190000
DTSTAMP:20260424T092618
CREATED:20230619T171617Z
LAST-MODIFIED:20230619T171617Z
UID:3377-1695135600-1695150000@www.royaloaks.ca
SUMMARY:Ladies Night
DESCRIPTION:
URL:https://www.royaloaks.ca/event/ladies-night-13/
CATEGORIES:Ladies Night
END:VEVENT
BEGIN:VEVENT
DTSTART;TZID=UTC:20230912T150000
DTEND;TZID=UTC:20230912T190000
DTSTAMP:20260424T092618
CREATED:20230619T191909Z
LAST-MODIFIED:20230619T191909Z
UID:3442-1694530800-1694545200@www.royaloaks.ca
SUMMARY:Ladies Night
DESCRIPTION:
URL:https://www.royaloaks.ca/event/ladies-night-15/
CATEGORIES:Ladies Night
END:VEVENT
BEGIN:VEVENT
DTSTART;TZID=UTC:20230905T150000
DTEND;TZID=UTC:20230905T190000
DTSTAMP:20260424T092618
CREATED:20230619T170826Z
LAST-MODIFIED:20230619T192316Z
UID:3369-1693926000-1693940400@www.royaloaks.ca
SUMMARY:Ladies Night
DESCRIPTION:
URL:https://www.royaloaks.ca/event/ladies-night-12/
CATEGORIES:Ladies Night
END:VEVENT
BEGIN:VEVENT
DTSTART;TZID=UTC:20230829T150000
DTEND;TZID=UTC:20230829T190000
DTSTAMP:20260424T092618
CREATED:20230619T165901Z
LAST-MODIFIED:20230619T165901Z
UID:3359-1693321200-1693335600@www.royaloaks.ca
SUMMARY:Ladies Night
DESCRIPTION:
URL:https://www.royaloaks.ca/event/ladies-night-11/
CATEGORIES:Ladies Night
END:VEVENT
BEGIN:VEVENT
DTSTART;TZID=UTC:20230822T150000
DTEND;TZID=UTC:20230822T190000
DTSTAMP:20260424T092618
CREATED:20230619T163634Z
LAST-MODIFIED:20230619T163634Z
UID:3349-1692716400-1692730800@www.royaloaks.ca
SUMMARY:Ladies Night
DESCRIPTION:
URL:https://www.royaloaks.ca/event/ladies-night-10/
CATEGORIES:Ladies Night
END:VEVENT
BEGIN:VEVENT
DTSTART;TZID=UTC:20230815T150000
DTEND;TZID=UTC:20230815T190000
DTSTAMP:20260424T092618
CREATED:20230619T163243Z
LAST-MODIFIED:20230619T163337Z
UID:3341-1692111600-1692126000@www.royaloaks.ca
SUMMARY:Ladies Night
DESCRIPTION:
URL:https://www.royaloaks.ca/event/ladies-night-9/
CATEGORIES:Ladies Night
END:VEVENT
BEGIN:VEVENT
DTSTART;TZID=UTC:20230808T150000
DTEND;TZID=UTC:20230808T190000
DTSTAMP:20260424T092618
CREATED:20230619T162423Z
LAST-MODIFIED:20230619T162545Z
UID:3333-1691506800-1691521200@www.royaloaks.ca
SUMMARY:Ladies Night
DESCRIPTION:
URL:https://www.royaloaks.ca/event/ladies-night-8/
CATEGORIES:Ladies Night
END:VEVENT
BEGIN:VEVENT
DTSTART;TZID=UTC:20230801T150000
DTEND;TZID=UTC:20230801T190000
DTSTAMP:20260424T092618
CREATED:20230619T162027Z
LAST-MODIFIED:20230619T162027Z
UID:3325-1690902000-1690916400@www.royaloaks.ca
SUMMARY:Ladies Night
DESCRIPTION:
URL:https://www.royaloaks.ca/event/ladies-night-7/
CATEGORIES:Ladies Night
END:VEVENT
BEGIN:VEVENT
DTSTART;TZID=UTC:20230725T170000
DTEND;TZID=UTC:20230725T200000
DTSTAMP:20260424T092618
CREATED:20230609T112758Z
LAST-MODIFIED:20230609T112902Z
UID:3244-1690304400-1690315200@www.royaloaks.ca
SUMMARY:Ladies Night - Christmas in July (5pm Shotgun Start)
DESCRIPTION:
URL:https://www.royaloaks.ca/event/ladies-night-christmas-in-july/
CATEGORIES:Ladies Night
END:VEVENT
BEGIN:VEVENT
DTSTART;TZID=UTC:20230718T150000
DTEND;TZID=UTC:20230718T190000
DTSTAMP:20260424T092618
CREATED:20230609T112656Z
LAST-MODIFIED:20230609T112656Z
UID:3242-1689692400-1689706800@www.royaloaks.ca
SUMMARY:Ladies Night
DESCRIPTION:
URL:https://www.royaloaks.ca/event/ladies-night-6/
CATEGORIES:Ladies Night
END:VEVENT
BEGIN:VEVENT
DTSTART;TZID=UTC:20230711T150000
DTEND;TZID=UTC:20230711T190000
DTSTAMP:20260424T092618
CREATED:20230609T112619Z
LAST-MODIFIED:20230609T112619Z
UID:3240-1689087600-1689102000@www.royaloaks.ca
SUMMARY:Ladies Night
DESCRIPTION:
URL:https://www.royaloaks.ca/event/ladies-night-5/
CATEGORIES:Ladies Night
END:VEVENT
BEGIN:VEVENT
DTSTART;TZID=UTC:20230704T150000
DTEND;TZID=UTC:20230704T190000
DTSTAMP:20260424T092618
CREATED:20230609T112550Z
LAST-MODIFIED:20230609T112550Z
UID:3238-1688482800-1688497200@www.royaloaks.ca
SUMMARY:Ladies Night
DESCRIPTION:
URL:https://www.royaloaks.ca/event/ladies-night-4/
CATEGORIES:Ladies Night
END:VEVENT
BEGIN:VEVENT
DTSTART;TZID=UTC:20230627T150000
DTEND;TZID=UTC:20230627T190000
DTSTAMP:20260424T092618
CREATED:20230606T190817Z
LAST-MODIFIED:20230606T190817Z
UID:3203-1687878000-1687892400@www.royaloaks.ca
SUMMARY:Ladies Night
DESCRIPTION:
URL:https://www.royaloaks.ca/event/ladies-night-3/
CATEGORIES:Ladies Night
END:VEVENT
BEGIN:VEVENT
DTSTART;TZID=UTC:20230620T150000
DTEND;TZID=UTC:20230620T190000
DTSTAMP:20260424T092618
CREATED:20230606T190452Z
LAST-MODIFIED:20230606T190452Z
UID:3198-1687273200-1687287600@www.royaloaks.ca
SUMMARY:Ladies Night
DESCRIPTION:
URL:https://www.royaloaks.ca/event/ladies-night-2/
CATEGORIES:Ladies Night
END:VEVENT
BEGIN:VEVENT
DTSTART;TZID=UTC:20230613T150000
DTEND;TZID=UTC:20230613T190000
DTSTAMP:20260424T092618
CREATED:20230606T163629Z
LAST-MODIFIED:20230606T163629Z
UID:3190-1686668400-1686682800@www.royaloaks.ca
SUMMARY:Ladies Night
DESCRIPTION:
URL:https://www.royaloaks.ca/event/ladies-night/
CATEGORIES:Ladies Night
END:VEVENT
END:VCALENDAR