BEGIN:VCALENDAR
VERSION:2.0
PRODID:-//Royal Oaks - ECPv6.2.4//NONSGML v1.0//EN
CALSCALE:GREGORIAN
METHOD:PUBLISH
X-ORIGINAL-URL:https://www.royaloaks.ca
X-WR-CALDESC:Events for Royal Oaks
REFRESH-INTERVAL;VALUE=DURATION:PT1H
X-Robots-Tag:noindex
X-PUBLISHED-TTL:PT1H
BEGIN:VTIMEZONE
TZID:UTC
BEGIN:STANDARD
TZOFFSETFROM:+0000
TZOFFSETTO:+0000
TZNAME:UTC
DTSTART:20230101T000000
END:STANDARD
END:VTIMEZONE
BEGIN:VEVENT
DTSTART;VALUE=DATE:20250724
DTEND;VALUE=DATE:20250725
DTSTAMP:20260424T074755
CREATED:20240220T201642Z
LAST-MODIFIED:20250128T190806Z
UID:4138-1753315200-1753401599@www.royaloaks.ca
SUMMARY:Shotgun Golf Tournament
DESCRIPTION:Shotgun start
URL:https://www.royaloaks.ca/event/shotgun-golf-tournament-11/
CATEGORIES:Golf Tournament
ATTACH;FMTTYPE=image/png:https://www.royaloaks.ca/wp-content/uploads/2025/01/golf-sports-golfer-golf-golf-golf-golf-golf-golfer-148630.png
END:VEVENT
BEGIN:VEVENT
DTSTART;VALUE=DATE:20250717
DTEND;VALUE=DATE:20250718
DTSTAMP:20260424T074755
CREATED:20240220T201724Z
LAST-MODIFIED:20250128T191532Z
UID:4140-1752710400-1752796799@www.royaloaks.ca
SUMMARY:Shotgun Golf Tournament
DESCRIPTION:Shotgun start
URL:https://www.royaloaks.ca/event/shotgun-golf-tournament-12/
CATEGORIES:Golf Tournament
ATTACH;FMTTYPE=image/png:https://www.royaloaks.ca/wp-content/uploads/2025/01/golf-sports-golfer-golf-golf-golf-golf-golf-golfer-148630.png
END:VEVENT
BEGIN:VEVENT
DTSTART;VALUE=DATE:20250710
DTEND;VALUE=DATE:20250711
DTSTAMP:20260424T074755
CREATED:20240220T201749Z
LAST-MODIFIED:20250128T190831Z
UID:4142-1752105600-1752191999@www.royaloaks.ca
SUMMARY:Shotgun Golf Tournament
DESCRIPTION:Shotgun start
URL:https://www.royaloaks.ca/event/shotgun-golf-tournament-13/
CATEGORIES:Golf Tournament
ATTACH;FMTTYPE=image/png:https://www.royaloaks.ca/wp-content/uploads/2025/01/golf-sports-golfer-golf-golf-golf-golf-golf-golfer-148630.png
END:VEVENT
BEGIN:VEVENT
DTSTART;VALUE=DATE:20250626
DTEND;VALUE=DATE:20250627
DTSTAMP:20260424T074755
CREATED:20240220T201810Z
LAST-MODIFIED:20250128T191753Z
UID:4144-1750896000-1750982399@www.royaloaks.ca
SUMMARY:Shotgun Golf Tournament
DESCRIPTION:12 pm Shotgun start
URL:https://www.royaloaks.ca/event/shotgun-golf-tournament-14/
CATEGORIES:Golf Tournament
ATTACH;FMTTYPE=image/png:https://www.royaloaks.ca/wp-content/uploads/2025/01/golf-sports-golfer-golf-golf-golf-golf-golf-golfer-148630.png
END:VEVENT
BEGIN:VEVENT
DTSTART;VALUE=DATE:20250619
DTEND;VALUE=DATE:20250620
DTSTAMP:20260424T074755
CREATED:20240220T201837Z
LAST-MODIFIED:20250128T191454Z
UID:4146-1750291200-1750377599@www.royaloaks.ca
SUMMARY:Shotgun Golf Tournament
DESCRIPTION:
URL:https://www.royaloaks.ca/event/shotgun-golf-tournament-15/
CATEGORIES:Golf Tournament
ATTACH;FMTTYPE=image/png:https://www.royaloaks.ca/wp-content/uploads/2025/01/golf-sports-golfer-golf-golf-golf-golf-golf-golfer-148630.png
END:VEVENT
BEGIN:VEVENT
DTSTART;VALUE=DATE:20240717
DTEND;VALUE=DATE:20240718
DTSTAMP:20260424T074755
CREATED:20240220T201152Z
LAST-MODIFIED:20240618T132243Z
UID:4124-1721174400-1721260799@www.royaloaks.ca
SUMMARY:Shotgun Golf Tournament
DESCRIPTION:11 am Shotgun start
URL:https://www.royaloaks.ca/event/shotgun-golf-tournament-4/
CATEGORIES:Golf Tournament
END:VEVENT
BEGIN:VEVENT
DTSTART;TZID=UTC:20231022T140000
DTEND;TZID=UTC:20231022T170000
DTSTAMP:20260424T074755
CREATED:20230619T161010Z
LAST-MODIFIED:20230619T161010Z
UID:3319-1697983200-1697994000@www.royaloaks.ca
SUMMARY:Shotgun Tournament
DESCRIPTION:
URL:https://www.royaloaks.ca/event/shotgun-tournament-12/
CATEGORIES:Golf Tournament
END:VEVENT
BEGIN:VEVENT
DTSTART;TZID=UTC:20230924T160000
DTEND;TZID=UTC:20230924T180000
DTSTAMP:20260424T074755
CREATED:20230619T190040Z
LAST-MODIFIED:20230619T190040Z
UID:3434-1695571200-1695578400@www.royaloaks.ca
SUMMARY:Nine & Dine
DESCRIPTION:
URL:https://www.royaloaks.ca/event/nine-dine-13/
CATEGORIES:Golf Tournament
END:VEVENT
BEGIN:VEVENT
DTSTART;TZID=UTC:20230917T160000
DTEND;TZID=UTC:20230917T180000
DTSTAMP:20260424T074755
CREATED:20230619T190015Z
LAST-MODIFIED:20230619T190015Z
UID:3432-1694966400-1694973600@www.royaloaks.ca
SUMMARY:Nine & Dine
DESCRIPTION:
URL:https://www.royaloaks.ca/event/nine-dine-12/
CATEGORIES:Golf Tournament
END:VEVENT
BEGIN:VEVENT
DTSTART;TZID=UTC:20230914T090000
DTEND;TZID=UTC:20230914T153000
DTSTAMP:20260424T074755
CREATED:20230619T155518Z
LAST-MODIFIED:20230619T155518Z
UID:3314-1694682000-1694705400@www.royaloaks.ca
SUMMARY:Shotgun Tournament
DESCRIPTION:
URL:https://www.royaloaks.ca/event/shotgun-tournament-11/
CATEGORIES:Golf Tournament
END:VEVENT
BEGIN:VEVENT
DTSTART;TZID=UTC:20230911T090000
DTEND;TZID=UTC:20230911T153000
DTSTAMP:20260424T074755
CREATED:20230908T114142Z
LAST-MODIFIED:20230908T114142Z
UID:3633-1694422800-1694446200@www.royaloaks.ca
SUMMARY:Shotgun Tournament
DESCRIPTION:
URL:https://www.royaloaks.ca/event/shotgun-tournament-13/
CATEGORIES:Golf Tournament
END:VEVENT
BEGIN:VEVENT
DTSTART;TZID=UTC:20230903T160000
DTEND;TZID=UTC:20230903T180000
DTSTAMP:20260424T074755
CREATED:20230619T185921Z
LAST-MODIFIED:20230619T185921Z
UID:3430-1693756800-1693764000@www.royaloaks.ca
SUMMARY:Nine & Dine
DESCRIPTION:
URL:https://www.royaloaks.ca/event/nine-dine-10/
CATEGORIES:Golf Tournament
END:VEVENT
BEGIN:VEVENT
DTSTART;TZID=UTC:20230831T110000
DTEND;TZID=UTC:20230831T173000
DTSTAMP:20260424T074755
CREATED:20230619T152505Z
LAST-MODIFIED:20230824T101859Z
UID:3296-1693479600-1693503000@www.royaloaks.ca
SUMMARY:Shotgun Tournamant
DESCRIPTION:
URL:https://www.royaloaks.ca/event/shotgun-tournamant/
CATEGORIES:Golf Tournament
END:VEVENT
BEGIN:VEVENT
DTSTART;TZID=UTC:20230830T110000
DTEND;TZID=UTC:20230830T173000
DTSTAMP:20260424T074755
CREATED:20230619T152340Z
LAST-MODIFIED:20230824T101807Z
UID:3294-1693393200-1693416600@www.royaloaks.ca
SUMMARY:Shotgun Tournament
DESCRIPTION:
URL:https://www.royaloaks.ca/event/shotgun-tournament-10/
CATEGORIES:Golf Tournament
END:VEVENT
BEGIN:VEVENT
DTSTART;TZID=UTC:20230827T160000
DTEND;TZID=UTC:20230827T180000
DTSTAMP:20260424T074755
CREATED:20230619T185610Z
LAST-MODIFIED:20230619T185610Z
UID:3426-1693152000-1693159200@www.royaloaks.ca
SUMMARY:Nine & Dine
DESCRIPTION:
URL:https://www.royaloaks.ca/event/nine-dine-11/
CATEGORIES:Golf Tournament
END:VEVENT
BEGIN:VEVENT
DTSTART;TZID=UTC:20230824T100000
DTEND;TZID=UTC:20230824T163000
DTSTAMP:20260424T074755
CREATED:20230619T151755Z
LAST-MODIFIED:20230619T151755Z
UID:3291-1692871200-1692894600@www.royaloaks.ca
SUMMARY:Shotgun Tournament
DESCRIPTION:
URL:https://www.royaloaks.ca/event/shotgun-tournament-9/
CATEGORIES:Golf Tournament
END:VEVENT
BEGIN:VEVENT
DTSTART;TZID=UTC:20230820T160000
DTEND;TZID=UTC:20230820T180000
DTSTAMP:20260424T074755
CREATED:20230619T185823Z
LAST-MODIFIED:20230619T185823Z
UID:3428-1692547200-1692554400@www.royaloaks.ca
SUMMARY:Nine & Dine
DESCRIPTION:
URL:https://www.royaloaks.ca/event/nine-dine-6/
CATEGORIES:Golf Tournament
END:VEVENT
BEGIN:VEVENT
DTSTART;TZID=UTC:20230817T110000
DTEND;TZID=UTC:20230817T170000
DTSTAMP:20260424T074755
CREATED:20230619T151518Z
LAST-MODIFIED:20230619T151518Z
UID:3289-1692270000-1692291600@www.royaloaks.ca
SUMMARY:Shotgun Tournament
DESCRIPTION:
URL:https://www.royaloaks.ca/event/shotgun-tournament-8/
CATEGORIES:Golf Tournament
END:VEVENT
BEGIN:VEVENT
DTSTART;TZID=UTC:20230813T160000
DTEND;TZID=UTC:20230813T180000
DTSTAMP:20260424T074755
CREATED:20230619T185521Z
LAST-MODIFIED:20230619T185521Z
UID:3422-1691942400-1691949600@www.royaloaks.ca
SUMMARY:Nine & Dine
DESCRIPTION:
URL:https://www.royaloaks.ca/event/nine-dine-9/
CATEGORIES:Golf Tournament
END:VEVENT
BEGIN:VEVENT
DTSTART;TZID=UTC:20230806T160000
DTEND;TZID=UTC:20230806T180000
DTSTAMP:20260424T074755
CREATED:20230619T185455Z
LAST-MODIFIED:20230619T185455Z
UID:3420-1691337600-1691344800@www.royaloaks.ca
SUMMARY:Nine & Dine
DESCRIPTION:
URL:https://www.royaloaks.ca/event/nine-dine-8/
CATEGORIES:Golf Tournament
END:VEVENT
BEGIN:VEVENT
DTSTART;TZID=UTC:20230803T123000
DTEND;TZID=UTC:20230803T183000
DTSTAMP:20260424T074755
CREATED:20230619T150926Z
LAST-MODIFIED:20230619T150926Z
UID:3287-1691065800-1691087400@www.royaloaks.ca
SUMMARY:Shotgun Tournament
DESCRIPTION:
URL:https://www.royaloaks.ca/event/shotgun-tournament-7/
CATEGORIES:Golf Tournament
END:VEVENT
BEGIN:VEVENT
DTSTART;TZID=UTC:20230730T160000
DTEND;TZID=UTC:20230730T180000
DTSTAMP:20260424T074755
CREATED:20230619T185431Z
LAST-MODIFIED:20230619T185431Z
UID:3418-1690732800-1690740000@www.royaloaks.ca
SUMMARY:Nine & Dine
DESCRIPTION:
URL:https://www.royaloaks.ca/event/nine-dine-7/
CATEGORIES:Golf Tournament
END:VEVENT
BEGIN:VEVENT
DTSTART;TZID=UTC:20230723T160000
DTEND;TZID=UTC:20230723T180000
DTSTAMP:20260424T074755
CREATED:20230619T185319Z
LAST-MODIFIED:20230619T185319Z
UID:3413-1690128000-1690135200@www.royaloaks.ca
SUMMARY:Nine & Dine
DESCRIPTION:
URL:https://www.royaloaks.ca/event/nine-dine-5/
CATEGORIES:Golf Tournament
END:VEVENT
BEGIN:VEVENT
DTSTART;TZID=UTC:20230720T090000
DTEND;TZID=UTC:20230720T150000
DTSTAMP:20260424T074755
CREATED:20230609T114240Z
LAST-MODIFIED:20230609T114240Z
UID:3271-1689843600-1689865200@www.royaloaks.ca
SUMMARY:Shotgun Tournament
DESCRIPTION:
URL:https://www.royaloaks.ca/event/shotgun-tournament-6/
CATEGORIES:Golf Tournament
END:VEVENT
BEGIN:VEVENT
DTSTART;TZID=UTC:20230716T160000
DTEND;TZID=UTC:20230716T180000
DTSTAMP:20260424T074755
CREATED:20230619T185252Z
LAST-MODIFIED:20230619T185252Z
UID:3411-1689523200-1689530400@www.royaloaks.ca
SUMMARY:Nine & Dine
DESCRIPTION:
URL:https://www.royaloaks.ca/event/nine-dine-4/
CATEGORIES:Golf Tournament
END:VEVENT
BEGIN:VEVENT
DTSTART;TZID=UTC:20230713T110000
DTEND;TZID=UTC:20230713T170000
DTSTAMP:20260424T074755
CREATED:20230609T113917Z
LAST-MODIFIED:20230609T113917Z
UID:3267-1689246000-1689267600@www.royaloaks.ca
SUMMARY:Shotgun Tournament
DESCRIPTION:
URL:https://www.royaloaks.ca/event/shotgun-tournament-5/
CATEGORIES:Golf Tournament
END:VEVENT
BEGIN:VEVENT
DTSTART;TZID=UTC:20230712T100000
DTEND;TZID=UTC:20230712T160000
DTSTAMP:20260424T074755
CREATED:20230609T113846Z
LAST-MODIFIED:20230609T113846Z
UID:3265-1689156000-1689177600@www.royaloaks.ca
SUMMARY:Shotgun Tournament
DESCRIPTION:
URL:https://www.royaloaks.ca/event/shotgun-tournament-4/
CATEGORIES:Golf Tournament
END:VEVENT
BEGIN:VEVENT
DTSTART;TZID=UTC:20230709T160000
DTEND;TZID=UTC:20230709T180000
DTSTAMP:20260424T074755
CREATED:20230619T185209Z
LAST-MODIFIED:20230619T185209Z
UID:3409-1688918400-1688925600@www.royaloaks.ca
SUMMARY:Nine & Dine
DESCRIPTION:
URL:https://www.royaloaks.ca/event/nine-dine-3/
CATEGORIES:Golf Tournament
END:VEVENT
BEGIN:VEVENT
DTSTART;TZID=UTC:20230706T100000
DTEND;TZID=UTC:20230706T160000
DTSTAMP:20260424T074755
CREATED:20230609T113813Z
LAST-MODIFIED:20230609T113813Z
UID:3263-1688637600-1688659200@www.royaloaks.ca
SUMMARY:Shotgun Tournament
DESCRIPTION:
URL:https://www.royaloaks.ca/event/shotgun-tournament-3/
CATEGORIES:Golf Tournament
END:VEVENT
BEGIN:VEVENT
DTSTART;TZID=UTC:20230705T093000
DTEND;TZID=UTC:20230705T153000
DTSTAMP:20260424T074755
CREATED:20230609T113741Z
LAST-MODIFIED:20230609T113741Z
UID:3261-1688549400-1688571000@www.royaloaks.ca
SUMMARY:Shotgun Tournament
DESCRIPTION:
URL:https://www.royaloaks.ca/event/shotgun-tournament-2/
CATEGORIES:Golf Tournament
END:VEVENT
END:VCALENDAR