BEGIN:VCALENDAR
VERSION:2.0
PRODID:-//Royal Oaks - ECPv6.2.4//NONSGML v1.0//EN
CALSCALE:GREGORIAN
METHOD:PUBLISH
X-WR-CALNAME:Royal Oaks
X-ORIGINAL-URL:https://www.royaloaks.ca
X-WR-CALDESC:Events for Royal Oaks
REFRESH-INTERVAL;VALUE=DURATION:PT1H
X-Robots-Tag:noindex
X-PUBLISHED-TTL:PT1H
BEGIN:VTIMEZONE
TZID:UTC
BEGIN:STANDARD
TZOFFSETFROM:+0000
TZOFFSETTO:+0000
TZNAME:UTC
DTSTART:20250101T000000
END:STANDARD
END:VTIMEZONE
BEGIN:VEVENT
DTSTART;VALUE=DATE:20250807
DTEND;VALUE=DATE:20250808
DTSTAMP:20260424T150615
CREATED:20250311T152551Z
LAST-MODIFIED:20250311T152551Z
UID:4783-1754524800-1754611199@www.royaloaks.ca
SUMMARY:Shotgun Golf Tournament
DESCRIPTION:
URL:https://www.royaloaks.ca/event/shotgun-golf-tournament-16/
CATEGORIES:Golf Tournament
END:VEVENT
BEGIN:VEVENT
DTSTART;TZID=UTC:20250809T070000
DTEND;TZID=UTC:20250809T133000
DTSTAMP:20260424T150615
CREATED:20230606T162957Z
LAST-MODIFIED:20250218T194151Z
UID:3188-1754722800-1754746200@www.royaloaks.ca
SUMMARY:Club Championship
DESCRIPTION:
URL:https://www.royaloaks.ca/event/club-championship/
CATEGORIES:Golf Tournament
ATTACH;FMTTYPE=image/jpeg:https://www.royaloaks.ca/wp-content/uploads/2025/02/cup-victory-winner-award-gold-price-honor-congratulation-victory-winner-winner-winner-winner-winner-award-award-1010916.jpg
END:VEVENT
BEGIN:VEVENT
DTSTART;TZID=UTC:20250810T070000
DTEND;TZID=UTC:20250810T133000
DTSTAMP:20260424T150615
CREATED:20250218T194053Z
LAST-MODIFIED:20250218T194132Z
UID:4686-1754809200-1754832600@www.royaloaks.ca
SUMMARY:Club Championship
DESCRIPTION:
URL:https://www.royaloaks.ca/event/club-championship-aug-9-10th/
CATEGORIES:Golf Tournament
ATTACH;FMTTYPE=image/jpeg:https://www.royaloaks.ca/wp-content/uploads/2025/02/cup-victory-winner-award-gold-price-honor-congratulation-victory-winner-winner-winner-winner-winner-award-award-1010916.jpg
END:VEVENT
BEGIN:VEVENT
DTSTART;VALUE=DATE:20250814
DTEND;VALUE=DATE:20250815
DTSTAMP:20260424T150615
CREATED:20250218T210127Z
LAST-MODIFIED:20250218T210324Z
UID:4384-1755129600-1755215999@www.royaloaks.ca
SUMMARY:Shotgun Golf Tournament
DESCRIPTION:
URL:https://www.royaloaks.ca/event/tournament/
CATEGORIES:Golf Tournament
END:VEVENT
BEGIN:VEVENT
DTSTART;VALUE=DATE:20250820
DTEND;VALUE=DATE:20250821
DTSTAMP:20260424T150615
CREATED:20240220T201614Z
LAST-MODIFIED:20250128T190740Z
UID:4136-1755648000-1755734399@www.royaloaks.ca
SUMMARY:Shotgun Golf Tournament
DESCRIPTION:Shotgun start
URL:https://www.royaloaks.ca/event/shotgun-golf-tournament-10/
CATEGORIES:Golf Tournament
ATTACH;FMTTYPE=image/png:https://www.royaloaks.ca/wp-content/uploads/2025/01/golf-sports-golfer-golf-golf-golf-golf-golf-golfer-148630.png
END:VEVENT
BEGIN:VEVENT
DTSTART;VALUE=DATE:20250821
DTEND;VALUE=DATE:20250822
DTSTAMP:20260424T150615
CREATED:20240220T201550Z
LAST-MODIFIED:20250128T190715Z
UID:4134-1755734400-1755820799@www.royaloaks.ca
SUMMARY:Shotgun Golf Tournament
DESCRIPTION:am Shotgun start
URL:https://www.royaloaks.ca/event/shotgun-golf-tournament-9/
CATEGORIES:Golf Tournament
ATTACH;FMTTYPE=image/png:https://www.royaloaks.ca/wp-content/uploads/2025/01/golf-sports-golfer-golf-golf-golf-golf-golf-golfer-148630.png
END:VEVENT
BEGIN:VEVENT
DTSTART;TZID=UTC:20250824T113000
DTEND;TZID=UTC:20250824T163000
DTSTAMP:20260424T150615
CREATED:20230619T191411Z
LAST-MODIFIED:20250218T201524Z
UID:3438-1756035000-1756053000@www.royaloaks.ca
SUMMARY:Mixed Club 2025
DESCRIPTION:
URL:https://www.royaloaks.ca/event/mixed-club-2023/
CATEGORIES:Golf Tournament
ATTACH;FMTTYPE=image/jpeg:https://www.royaloaks.ca/wp-content/uploads/2025/02/sport-golf-sports-game-people-turkey-nikon-hobby-match-lawn-golf-golf-golf-golf-golf-4690630.jpg
END:VEVENT
BEGIN:VEVENT
DTSTART;VALUE=DATE:20250828
DTEND;VALUE=DATE:20250829
DTSTAMP:20260424T150615
CREATED:20240220T201519Z
LAST-MODIFIED:20250128T190651Z
UID:4132-1756339200-1756425599@www.royaloaks.ca
SUMMARY:Shotgun Golf Tournament
DESCRIPTION:Shotgun start
URL:https://www.royaloaks.ca/event/shotgun-golf-tournament-8/
CATEGORIES:Golf Tournament
ATTACH;FMTTYPE=image/png:https://www.royaloaks.ca/wp-content/uploads/2025/01/golf-sports-golfer-golf-golf-golf-golf-golf-golfer-148630.png
END:VEVENT
END:VCALENDAR