BEGIN:VCALENDAR
VERSION:2.0
PRODID:-//Royal Oaks - ECPv6.2.4//NONSGML v1.0//EN
CALSCALE:GREGORIAN
METHOD:PUBLISH
X-ORIGINAL-URL:https://www.royaloaks.ca
X-WR-CALDESC:Events for Royal Oaks
REFRESH-INTERVAL;VALUE=DURATION:PT1H
X-Robots-Tag:noindex
X-PUBLISHED-TTL:PT1H
BEGIN:VTIMEZONE
TZID:UTC
BEGIN:STANDARD
TZOFFSETFROM:+0000
TZOFFSETTO:+0000
TZNAME:UTC
DTSTART:20240101T000000
END:STANDARD
END:VTIMEZONE
BEGIN:VEVENT
DTSTART;TZID=UTC:20241014T000000
DTEND;TZID=UTC:20241014T235900
DTSTAMP:20260421T103328
CREATED:20240105T194642Z
LAST-MODIFIED:20240126T173707Z
UID:3990-1728864000-1728950340@www.royaloaks.ca
SUMMARY:Thanksgiving Day
DESCRIPTION:
URL:https://www.royaloaks.ca/event/thanksgiving-day/
ATTACH;FMTTYPE=image/jpeg:https://www.royaloaks.ca/wp-content/uploads/2024/01/holiday-table-table-setting-thanksgiving-table-1926938.jpg
END:VEVENT
END:VCALENDAR