BEGIN:VCALENDAR
VERSION:2.0
PRODID:-//Royal Oaks - ECPv6.2.4//NONSGML v1.0//EN
CALSCALE:GREGORIAN
METHOD:PUBLISH
X-WR-CALNAME:Royal Oaks
X-ORIGINAL-URL:https://www.royaloaks.ca
X-WR-CALDESC:Events for Royal Oaks
REFRESH-INTERVAL;VALUE=DURATION:PT1H
X-Robots-Tag:noindex
X-PUBLISHED-TTL:PT1H
BEGIN:VTIMEZONE
TZID:UTC
BEGIN:STANDARD
TZOFFSETFROM:+0000
TZOFFSETTO:+0000
TZNAME:UTC
DTSTART:20230101T000000
END:STANDARD
END:VTIMEZONE
BEGIN:VEVENT
DTSTART;TZID=UTC:20231219T173000
DTEND;TZID=UTC:20231219T183000
DTSTAMP:20260422T085107
CREATED:20231127T135007Z
LAST-MODIFIED:20231127T135007Z
UID:3752-1703007000-1703010600@www.royaloaks.ca
SUMMARY:Yoga
DESCRIPTION:please call to reserve at  506-388-6257 \nadmin@royaloaks.nb.ca
URL:https://www.royaloaks.ca/event/yoga-14/
ATTACH;FMTTYPE=image/png:https://www.royaloaks.ca/wp-content/uploads/2023/11/yoga-typography-type-2099054.png
END:VEVENT
END:VCALENDAR